BEGIN:VCALENDAR
VERSION:2.0
PRODID:-//BHUTAN FOOTBALL FEDERATION - ECPv6.11.2.1//NONSGML v1.0//EN
CALSCALE:GREGORIAN
METHOD:PUBLISH
X-ORIGINAL-URL:https://bhutanfootball.org
X-WR-CALDESC:Events for BHUTAN FOOTBALL FEDERATION
REFRESH-INTERVAL;VALUE=DURATION:PT1H
X-Robots-Tag:noindex
X-PUBLISHED-TTL:PT1H
BEGIN:VTIMEZONE
TZID:UTC
BEGIN:STANDARD
TZOFFSETFROM:+0000
TZOFFSETTO:+0000
TZNAME:UTC
DTSTART:20230101T000000
END:STANDARD
END:VTIMEZONE
BEGIN:VEVENT
DTSTART;TZID=UTC:20230820T100000
DTEND;TZID=UTC:20230820T170000
DTSTAMP:20260423T223640
CREATED:20230819T160411Z
LAST-MODIFIED:20230819T160411Z
UID:4317-1692525600-1692550800@bhutanfootball.org
SUMMARY:FINALS OF THE BFF NATIONAL YOUTH LEAGUE\, 2023
DESCRIPTION:The finals of the National Youth League\, 2023 are finally here. Check out the fixture below: \nU14 Girls       Thimphu Women’s FC  Vs. Paro FC        20th August   {10:00 AM}    Changlimithang MINI PITCH\nU16 Girls       Pling City FC Vs. Ugyen Academy FC      20th August   {12:00PM}     Changlimithang MINI PITCH\nU14 Boys       Paro FC   Vs. Samtengang Academy           20th August  {3:00 PM}      Changlimithang MINI PITCH\nU16 Boys      Paro FC    Vs. BFF Academy                             20th August   {5:00 PM}      Changlimithang Full PITCH \n  \nGood luck to all the teams.
URL:https://bhutanfootball.org/event/finals-of-the-bff-national-youth-league-2023/
LOCATION:Changlimithang National Stadium\, Main Town\, Thimphu\, Bhutan
CATEGORIES:2023,National Youth League
ATTACH;FMTTYPE=image/jpeg:https://bhutanfootball.org/wp-content/uploads/2023/07/356998028_650363073790911_7917375843195203720_n.jpg
ORGANIZER;CN="Bhutan Football Federation":MAILTO:technicaldept.bff@gmail.com
END:VEVENT
BEGIN:VEVENT
DTSTART;TZID=UTC:20230819T120000
DTEND;TZID=UTC:20230819T180000
DTSTAMP:20260423T223640
CREATED:20230808T101825Z
LAST-MODIFIED:20230808T103132Z
UID:4204-1692446400-1692468000@bhutanfootball.org
SUMMARY:Semi-Finals Of The National Youth League\, 2023
DESCRIPTION:1. 1st Semi-Final Gelephu City FC Vs. Pling City FC 19th August 12:00PM Changlimithang Pitch 1 \n2. 2nd Semi-Final Ugyen Academy Paro FC 19th August 1:00PM Changlimithang Pitch 2 \n3. 1st Semi-Final Paro FC Vs. Gelephu City FC 19th August 2:00PM Changlimithang Pitch 2 \n4. 2nd Semi-Final Tendru Academy Vs. Samtengang Academy 19th August 1:00PM Changlimithang Pitch 1 \n5. 1st Semi-Final Thimphu Women’s FC Vs. Pling City FC 19th August 2:00PM Changlimithang Pitch 1 \n6. 2nd Semi Final Paro FC Vs. Tensung FC 19th August 12:00PM Changlimithang Pitch 2 \n7. 1st Semi Final Paro FC Vs. Gelephu City FC 19th August 3:00PM Changlimithang Full Pitch \n8. 2nd Semi Final BFF Academy Vs. Ugyen Academy 19th August 5:00PM Changlimithang Full Pitch
URL:https://bhutanfootball.org/event/semi-finals-of-the-national-youth-league-2023/
LOCATION:Changlimithang National Stadium\, Main Town\, Thimphu\, Bhutan
CATEGORIES:2023,National Youth League,Semi Final
ATTACH;FMTTYPE=image/jpeg:https://bhutanfootball.org/wp-content/uploads/2023/07/356998028_650363073790911_7917375843195203720_n.jpg
ORGANIZER;CN="Bhutan Football Federation":MAILTO:technicaldept.bff@gmail.com
END:VEVENT
END:VCALENDAR