BEGIN:VCALENDAR
VERSION:2.0
PRODID:-//BHUTAN FOOTBALL FEDERATION - ECPv6.11.2.1//NONSGML v1.0//EN
CALSCALE:GREGORIAN
METHOD:PUBLISH
X-ORIGINAL-URL:https://bhutanfootball.org
X-WR-CALDESC:Events for BHUTAN FOOTBALL FEDERATION
REFRESH-INTERVAL;VALUE=DURATION:PT1H
X-Robots-Tag:noindex
X-PUBLISHED-TTL:PT1H
BEGIN:VTIMEZONE
TZID:UTC
BEGIN:STANDARD
TZOFFSETFROM:+0000
TZOFFSETTO:+0000
TZNAME:UTC
DTSTART:20220101T000000
END:STANDARD
END:VTIMEZONE
BEGIN:VEVENT
DTSTART;TZID=UTC:20230819T083000
DTEND;TZID=UTC:20230831T180000
DTSTAMP:20260423T180748
CREATED:20230819T045156Z
LAST-MODIFIED:20230819T045156Z
UID:4304-1692433800-1693504800@bhutanfootball.org
SUMMARY:BFF-AFC PROFESSIONAL DIPLOMA COACHING COURSE
DESCRIPTION:The first-ever BFF-AFC Professional Diploma Coaching course in Bhutan will be conducted from 19th Aug 2023 to 31st August 2023 at Changjiji Academy. The technical Director of  All India Football Federation\, Mr. Vaithilingam Subramaniam\, who also served as the technical director of the Bhutan Football Federation from 2018 to 2022 is the lead instructor of the course. A total of 10 coaches from the top clubs. \nThe course will cover: \n\n The phase of Play – 11 v 11\nDevelopment of Attack from Midfield\nDevelopment of Attack – Possession v Penetration\nCounter Attack – The Transition\nFunctional Play – Participant’s Session\nSet Play – Attacking – Participant’s Session
URL:https://bhutanfootball.org/event/bff-afc-professional-diploma-coaching-course/
LOCATION:Changjiji Academy\, Changjiji\, Thimphu\, Bhutan
CATEGORIES:2023,coach education,Women's Football
ATTACH;FMTTYPE=image/jpeg:https://bhutanfootball.org/wp-content/uploads/2023/08/Pi7_Image_PRO.jpg
ORGANIZER;CN="Bhutan Football Federation":MAILTO:technicaldept.bff@gmail.com
END:VEVENT
BEGIN:VEVENT
DTSTART;TZID=UTC:20230724T090000
DTEND;TZID=UTC:20230728T170000
DTSTAMP:20260423T180748
CREATED:20230714T124138Z
LAST-MODIFIED:20230714T124138Z
UID:3886-1690189200-1690563600@bhutanfootball.org
SUMMARY:AFC Fitness Level-1 Coaching Course
DESCRIPTION:The AFC Fitness Level-1 coaching course is a part of AFC Fitness Coaches Education. The 5 days event will be attended by the AFC BFF coaches.
URL:https://bhutanfootball.org/event/afc-fitness-level-1-coaching-course/
LOCATION:Changlimithang National Stadium\, Main Town\, Thimphu\, Bhutan
CATEGORIES:coach education
ATTACH;FMTTYPE=image/jpeg:https://bhutanfootball.org/wp-content/uploads/2023/07/MEDIA-LOGOS.jpg
ORGANIZER;CN="Bhutan Football Federation":MAILTO:technicaldept.bff@gmail.com
END:VEVENT
BEGIN:VEVENT
DTSTART;TZID=UTC:20230717T170000
DTEND;TZID=UTC:20230717T190000
DTSTAMP:20260423T180748
CREATED:20230714T121906Z
LAST-MODIFIED:20230714T121930Z
UID:3883-1689613200-1689620400@bhutanfootball.org
SUMMARY:Practical Knowledge Sharing Workshop
DESCRIPTION:The workshop will focus on the goalkeeper prematch warmup session. The goal keeper coaches\, Goalkeepers\, clubs heads and coaches of the clubs will attend the workshop.
URL:https://bhutanfootball.org/event/practical-knowledge-sharing-workshop/
LOCATION:Changlimithang National Stadium\, Main Town\, Thimphu\, Bhutan
CATEGORIES:coach education
ATTACH;FMTTYPE=image/jpeg:https://bhutanfootball.org/wp-content/uploads/2023/07/technical.jpg
ORGANIZER;CN="Bhutan Football Federation":MAILTO:technicaldept.bff@gmail.com
END:VEVENT
BEGIN:VEVENT
DTSTART;TZID=UTC:20221107T090000
DTEND;TZID=UTC:20221111T170000
DTSTAMP:20260423T180748
CREATED:20220805T070450Z
LAST-MODIFIED:20220805T070450Z
UID:2312-1667811600-1668186000@bhutanfootball.org
SUMMARY:BFF GRASSROOTS COACHING COURSE
DESCRIPTION:Bff Grassroots Coaching Course will be conducted for the BPL Clubs\,Womens Club and Academies to coach the children from age 5 years old to 12 years old. It is also to encourage clubs to develop their own players for the future.Its an inductory course for the coaches to attend and upgrade themsleves for the BFF C Diploma coaching course in the future
URL:https://bhutanfootball.org/event/bff-grassroots-coaching-course/
LOCATION:Changjiji Academy\, Changjiji\, Thimphu\, Bhutan
CATEGORIES:coach education
ATTACH;FMTTYPE=image/jpeg:https://bhutanfootball.org/wp-content/uploads/2022/08/WhatsApp-Image-2022-08-05-at-12.43.32-PM.jpeg
ORGANIZER;CN="Bhutan Football Federation":MAILTO:technicaldept.bff@gmail.com
END:VEVENT
BEGIN:VEVENT
DTSTART;TZID=UTC:20220912T080000
DTEND;TZID=UTC:20221012T170000
DTSTAMP:20260423T180748
CREATED:20220805T064131Z
LAST-MODIFIED:20220805T064131Z
UID:2298-1662969600-1665594000@bhutanfootball.org
SUMMARY:BFF-AFC A DIPLOMA COACHING COURSE
DESCRIPTION:BFF-AFC A Diploma Coaching Course is conducted for the coaches who has B License to upgrade to A license to coach the BPL teams and Kelme Bhutan Women’s National League.Ngyultrum 10000/- (Ten Thousand Only) is charged to the participants as an course fee to attend the course.
URL:https://bhutanfootball.org/event/bff-afc-a-diploma-coaching-course/
LOCATION:Changjiji Academy\, Changjiji\, Thimphu\, Bhutan
CATEGORIES:coach education
ATTACH;FMTTYPE=image/jpeg:https://bhutanfootball.org/wp-content/uploads/2022/08/IMG_8122-scaled.jpg
ORGANIZER;CN="Bhutan Football Federation":MAILTO:technicaldept.bff@gmail.com
END:VEVENT
END:VCALENDAR