BEGIN:VCALENDAR
VERSION:2.0
PRODID:-//BHUTAN FOOTBALL FEDERATION - ECPv6.11.2.1//NONSGML v1.0//EN
CALSCALE:GREGORIAN
METHOD:PUBLISH
X-ORIGINAL-URL:https://bhutanfootball.org
X-WR-CALDESC:Events for BHUTAN FOOTBALL FEDERATION
REFRESH-INTERVAL;VALUE=DURATION:PT1H
X-Robots-Tag:noindex
X-PUBLISHED-TTL:PT1H
BEGIN:VTIMEZONE
TZID:UTC
BEGIN:STANDARD
TZOFFSETFROM:+0000
TZOFFSETTO:+0000
TZNAME:UTC
DTSTART:20230101T000000
END:STANDARD
END:VTIMEZONE
BEGIN:VEVENT
DTSTART;TZID=UTC:20230828T180000
DTEND;TZID=UTC:20230828T200000
DTSTAMP:20260423T211057
CREATED:20230827T104242Z
LAST-MODIFIED:20230827T104523Z
UID:4389-1693245600-1693252800@bhutanfootball.org
SUMMARY:TRANSPORT UNITED LADIES vs GIRLS ACADEMY GELEPHU
DESCRIPTION:The opening match of Bhutan Women’s National League will be played between Transport United Ladies and Girls Academy Gelephu.
URL:https://bhutanfootball.org/event/transport-united-ladies-vs-girls-academy-gelephu/
LOCATION:Changlimithang National Stadium\, Main Town\, Thimphu\, Bhutan
CATEGORIES:Bhutan Women's National League,Women's Football
ATTACH;FMTTYPE=image/jpeg:https://bhutanfootball.org/wp-content/uploads/2023/08/359506743_236756139176958_9129288952321895437_n.jpg
ORGANIZER;CN="Bhutan Football Federation":MAILTO:technicaldept.bff@gmail.com
END:VEVENT
END:VCALENDAR